BEGIN:VCALENDAR
VERSION:2.0
METHOD:PUBLISH
BEGIN:VEVENT
DTSTAMP:20260419T192225Z
DTSTART:20240615T170000Z
DTEND:20240615T170000Z
SUMMARY:Celebrate Your Awesome
LOCATION:Alexandra Park - 11 Second Street, Orangeville, ON
END:VEVENT
END:VCALENDAR
