BEGIN:VCALENDAR
VERSION:2.0
METHOD:PUBLISH
BEGIN:VEVENT
DTSTAMP:20260419T152737Z
DTSTART:20240615T130000Z
DTEND:20240615T130000Z
SUMMARY:Dufferin Hi-Land Bruce Trail Club Summer Solstice Celebration
LOCATION:Mulmur-Mono
END:VEVENT
END:VCALENDAR
