BEGIN:VCALENDAR
VERSION:2.0
METHOD:PUBLISH
BEGIN:VEVENT
DTSTAMP:20260419T163903Z
DTSTART:20240615T110000Z
DTEND:20240615T230000Z
SUMMARY:WODS FOR HEROES
LOCATION:207323 HIGHWAY 9
END:VEVENT
END:VCALENDAR
