BEGIN:VCALENDAR
VERSION:2.0
METHOD:PUBLISH
BEGIN:VEVENT
DTSTAMP:20260419T181121Z
DTSTART:20240611T223000Z
DTEND:20240612T003000Z
SUMMARY:Orangeville and District Horticultural Monthly Meeting
LOCATION:Orangeville Senior Centre, 26 Bythia St, Orangeville, On, L9W2S1
END:VEVENT
END:VCALENDAR
