BEGIN:VCALENDAR
VERSION:2.0
METHOD:PUBLISH
BEGIN:VEVENT
DTSTAMP:20260419T180625Z
DTSTART:20240611T190000Z
DTEND:20240612T000000Z
SUMMARY:Island Lake Open House
LOCATION:673067 Hurontario St, Orangeville, ON
END:VEVENT
END:VCALENDAR
