BEGIN:VCALENDAR
VERSION:2.0
METHOD:PUBLISH
BEGIN:VEVENT
DTSTAMP:20260419T165036Z
DTSTART:20240609T230000Z
DTEND:20240609T230000Z
SUMMARY:Orangeville Jr A Northmen vs Toronto Beaches
LOCATION:Tony Rose Memorial Sports Centre, 6 Northmen Way, Orangeville
END:VEVENT
END:VCALENDAR
