BEGIN:VCALENDAR
VERSION:2.0
METHOD:PUBLISH
BEGIN:VEVENT
DTSTAMP:20260419T140540Z
DTSTART:20240609T143000Z
DTEND:20240609T210000Z
SUMMARY:RAM Rodeo Tour
LOCATION:Orangeville Fairgrounds, 247090 5th Sideroad, Mono, ON
END:VEVENT
END:VCALENDAR
