BEGIN:VCALENDAR
VERSION:2.0
METHOD:PUBLISH
BEGIN:VEVENT
DTSTAMP:20260419T180510Z
DTSTART:20240608T233000Z
DTEND:20240608T233000Z
SUMMARY:Disney High School Musical Jr
LOCATION:87 Broadway, Orangeville, ON
END:VEVENT
END:VCALENDAR
