BEGIN:VCALENDAR
VERSION:2.0
METHOD:PUBLISH
BEGIN:VEVENT
DTSTAMP:20260419T151634Z
DTSTART:20240608T173000Z
DTEND:20240608T230000Z
SUMMARY:RAM Rodeo Tour
LOCATION:Orangeville Fairgrounds, 247090 5th Sideroad, Mono, ON
END:VEVENT
END:VCALENDAR
