BEGIN:VCALENDAR
VERSION:2.0
METHOD:PUBLISH
BEGIN:VEVENT
DTSTAMP:20260419T163918Z
DTSTART:20240608T150000Z
DTEND:20240608T200000Z
SUMMARY:Dufferin County Multicultural Event
LOCATION:Museum of Dufferin, 936029 Airport Road, Mulmur, ON
END:VEVENT
END:VCALENDAR
