BEGIN:VCALENDAR
VERSION:2.0
METHOD:PUBLISH
BEGIN:VEVENT
DTSTAMP:20260419T164108Z
DTSTART:20240607T233000Z
DTEND:20240607T233000Z
SUMMARY:Disney High School Musical Jr
LOCATION:87 Broadway, Orangeville, ON
END:VEVENT
END:VCALENDAR
