BEGIN:VCALENDAR
VERSION:2.0
METHOD:PUBLISH
BEGIN:VEVENT
DTSTAMP:20260419T182445Z
DTSTART:20240607T123000Z
DTEND:20240607T193000Z
SUMMARY:Home Alone Safety for Kids aged 9-12 years old Workshop 
LOCATION:55 C Line, Orangeville, ON L9W 2Y9
END:VEVENT
END:VCALENDAR
