BEGIN:VCALENDAR
VERSION:2.0
METHOD:PUBLISH
BEGIN:VEVENT
DTSTAMP:20260419T164424Z
DTSTART:20240605T130000Z
DTEND:20240605T160000Z
SUMMARY:Seniors Day @ Island Lake Conservation Area
LOCATION: 673067 Hurontario Street
END:VEVENT
END:VCALENDAR
