BEGIN:VCALENDAR
VERSION:2.0
METHOD:PUBLISH
BEGIN:VEVENT
DTSTAMP:20260419T153257Z
DTSTART:20240605T000000Z
DTEND:20240605T000000Z
SUMMARY:Orangeville Jr A Northmen vs Peterborough Lakers
LOCATION:Tony Rose Memorial Sports Centre, 6 Northmen Way, Orangeville
END:VEVENT
END:VCALENDAR
