BEGIN:VCALENDAR
VERSION:2.0
METHOD:PUBLISH
BEGIN:VEVENT
DTSTAMP:20260419T164645Z
DTSTART:20240602T230000Z
DTEND:20240602T230000Z
SUMMARY:Orangeville Jr A Northmen vs St. Catharines Athletics
LOCATION:Tony Rose Memorial Sports Centre, 6 Northmen Way, Orangeville
END:VEVENT
END:VCALENDAR
