BEGIN:VCALENDAR
VERSION:2.0
METHOD:PUBLISH
BEGIN:VEVENT
DTSTAMP:20260425T205105Z
DTSTART:20220605T140000Z
DTEND:20220605T140000Z
SUMMARY:Orangeville Blues &amp; Jazz Festival
LOCATION:11 Second Street, Orangeville, ON
END:VEVENT
END:VCALENDAR
