BEGIN:VCALENDAR
VERSION:2.0
METHOD:PUBLISH
BEGIN:VEVENT
DTSTAMP:20260421T080958Z
DTSTART:20260415T130000Z
DTEND:20260415T143000Z
SUMMARY:Workplace Safety Essentials
LOCATION:200 Lakeview Court, Upper Level, Orangeville, ON
END:VEVENT
END:VCALENDAR
