BEGIN:VCALENDAR
VERSION:2.0
METHOD:PUBLISH
BEGIN:VEVENT
DTSTAMP:20260421T114259Z
DTSTART:20260325T130000Z
DTEND:20260325T143000Z
SUMMARY:Create an Online Store
LOCATION:275 Alder St (Room 1), Orangeville, ON L9W 5H6
END:VEVENT
END:VCALENDAR
