BEGIN:VCALENDAR
VERSION:2.0
METHOD:PUBLISH
BEGIN:VEVENT
DTSTAMP:20260424T081853Z
DTSTART:20231004T153000Z
DTEND:20231004T173000Z
SUMMARY:Connect to Create with Chelsea Johnson
LOCATION:Monora Park Pavilion (lower level), 500 Monora Park Rd. Mono, ON
END:VEVENT
END:VCALENDAR
